BEGIN:VCALENDAR
VERSION:2.0
PRODID:spatie/icalendar-generator
DESCRIPTION:Events from Boyle MacDonald Wines
X-WR-CALDESC:Events from Boyle MacDonald Wines
REFRESH-INTERVAL;VALUE=DURATION:PT1440M
X-PUBLISHED-TTL:PT1440M
BEGIN:VTIMEZONE
TZID:Etc/GMT+8
BEGIN:STANDARD
DTSTART:20250707T120000Z
TZOFFSETFROM:-0800
TZOFFSETTO:-0800
END:STANDARD
END:VTIMEZONE
BEGIN:VTIMEZONE
TZID:UTC
BEGIN:STANDARD
DTSTART:20250726T185325Z
TZOFFSETFROM:+0000
TZOFFSETTO:+0000
END:STANDARD
END:VTIMEZONE
BEGIN:VEVENT
UID:5628-1
DTSTAMP:20260422T185325Z
SUMMARY:Tasting Room Open Fridays
LOCATION:Tasting Room 448B Main Street   Murphys CA 95247
ORGANIZER;CN=boylemacdonaldwines:MAILTO:buggy@buggysoftware.com
RRULE:FREQ=WEEKLY;COUNT=1000
DTSTART;TZID=Etc/GMT+8:20260403T120000
DTEND;TZID=Etc/GMT+8:20260403T200000
X-ALT-DESC;FMTTYPE=TEXT/HTML:
CATEGORIES:Tasting Room Hours
URL;VALUE=URI:https://www.boylemacdonaldwines.com/my-calendar/?mc_id=5628
METHOD:PUBLISH
END:VEVENT
BEGIN:VEVENT
UID:1368-2
DTSTAMP:20260422T185325Z
SUMMARY:Tasting Room Open Saturdays
LOCATION:
ORGANIZER;CN=boylemacdonaldwines:MAILTO:buggy@buggysoftware.com
RRULE:FREQ=WEEKLY;UNTIL=20380605T000000Z
DTSTART;TZID=Etc/GMT+8:20260404T120000
DTEND;TZID=Etc/GMT+8:20260404T170000
X-ALT-DESC;FMTTYPE=TEXT/HTML:
CATEGORIES:Tasting Room Hours
URL;VALUE=URI:https://www.boylemacdonaldwines.com/my-calendar/?mc_id=1368
METHOD:PUBLISH
END:VEVENT
BEGIN:VEVENT
UID:4583-23
DTSTAMP:20260422T185325Z
SUMMARY:Tasting Room Open Sundays
LOCATION:
ORGANIZER;CN=boylemacdonaldwines:MAILTO:buggy@buggysoftware.com
RRULE:FREQ=WEEKLY;COUNT=1000
DTSTART;TZID=Etc/GMT+8:20260405T120000
DTEND;TZID=Etc/GMT+8:20260405T170000
X-ALT-DESC;FMTTYPE=TEXT/HTML:
CATEGORIES:Tasting Room Hours
URL;VALUE=URI:https://www.boylemacdonaldwines.com/my-calendar/?mc_id=4583
METHOD:PUBLISH
END:VEVENT
END:VCALENDAR